BEGIN:VCALENDAR
VERSION:2.0
PRODID:-//hacksw/handcal//NONSGML v1.0//EN
BEGIN:VEVENT
SUMMARY:ROOST-WARENDIN AS 2 / Wormhout 1
UID:38a77a66-9c0a-4788-9ce5-beff9a9bb63e
DTSTART:20260509T220000Z
DTEND:20260510T220000Z
LOCATION:Localisation   
CATEGORIES:Sportif
STATUS:
URL;VALUE=URI:https://www.aswtt.fr/evenements/2026/05/10/roost-warendin-as-2-wormhout-1-2443972
END:VEVENT
END:VCALENDAR
