BEGIN:VCALENDAR
VERSION:2.0
PRODID:-//hacksw/handcal//NONSGML v1.0//EN
BEGIN:VEVENT
SUMMARY:RADINGHEM EN WEPPES AS 1 / Wormhout 3
UID:cb1d719c-e754-4869-b769-e8da25d2d9fd
DTSTART:20260510T073000Z
DTEND:20260510T220000Z
LOCATION:Localisation   
CATEGORIES:Sportif
STATUS:
URL;VALUE=URI:https://www.aswtt.fr/evenements/2026/05/10/radinghem-en-weppes-as-1-wormhout-3-2443980
END:VEVENT
END:VCALENDAR
