BEGIN:VCALENDAR
VERSION:2.0
PRODID:-//hacksw/handcal//NONSGML v1.0//EN
BEGIN:VEVENT
SUMMARY:BOURBOURG SCTT 4 / Wormhout 2
UID:d471175a-f99b-4c9e-b41a-340ac7c11de6
DTSTART:20260510T073000Z
DTEND:20260510T220000Z
LOCATION:Localisation   
CATEGORIES:Sportif
STATUS:
URL;VALUE=URI:https://www.aswtt.fr/evenements/2026/05/10/bourbourg-sctt-4-wormhout-2-2443974
END:VEVENT
END:VCALENDAR
