BEGIN:VCALENDAR
VERSION:2.0
PRODID:-//hacksw/handcal//NONSGML v1.0//EN
BEGIN:VEVENT
SUMMARY:Bourbourg 10 / Wormhout 4
UID:0c34d85e-63b5-4ce0-b3c9-e58a8842bf4d
DTSTART:20260510T073000Z
DTEND:20260510T220000Z
LOCATION:Localisation   
CATEGORIES:Sportif
STATUS:
URL;VALUE=URI:https://www.aswtt.fr/evenements/2026/05/10/bourbourg-10-wormhout-4-2443982
END:VEVENT
END:VCALENDAR
