BEGIN:VCALENDAR
VERSION:2.0
PRODID:-//hacksw/handcal//NONSGML v1.0//EN
BEGIN:VEVENT
SUMMARY:BOLLEZEELE 2 / WORMHOUT 2 UFOLEP
UID:7c237727-4d9c-4660-a287-b1a0f9278254
DTSTART:20260506T170000Z
DTEND:20260506T220000Z
LOCATION:Localisation   
CATEGORIES:Sportif
STATUS:
URL;VALUE=URI:https://www.aswtt.fr/evenements/2026/05/06/bollezeele-2-wormhout-2-ufolep-2443971
END:VEVENT
END:VCALENDAR
